BEGIN:VCALENDAR
VERSION:2.0
PRODID:-//Camping-Club Rottweil/Schramberg - ECPv6.6.0.2//NONSGML v1.0//EN
CALSCALE:GREGORIAN
METHOD:PUBLISH
X-ORIGINAL-URL:https://cc-rottweil-schramberg.de
X-WR-CALDESC:Veranstaltungen für Camping-Club Rottweil/Schramberg
REFRESH-INTERVAL;VALUE=DURATION:PT1H
X-Robots-Tag:noindex
X-PUBLISHED-TTL:PT1H
BEGIN:VTIMEZONE
TZID:Europe/Berlin
BEGIN:DAYLIGHT
TZOFFSETFROM:+0100
TZOFFSETTO:+0200
TZNAME:CEST
DTSTART:20250330T010000
END:DAYLIGHT
BEGIN:STANDARD
TZOFFSETFROM:+0200
TZOFFSETTO:+0100
TZNAME:CET
DTSTART:20251026T010000
END:STANDARD
END:VTIMEZONE
BEGIN:VEVENT
DTSTART;TZID=Europe/Berlin:20250214T190000
DTEND;TZID=Europe/Berlin:20250214T220000
DTSTAMP:20260422T011716
CREATED:20250106T130555Z
LAST-MODIFIED:20250106T130555Z
UID:5130-1739559600-1739570400@cc-rottweil-schramberg.de
SUMMARY:Jahreshauptversammlung mit anschließendem Clubabend CCRS
DESCRIPTION:Am Freitag\, den 14.02.2025\, findet unsere Jahreshauptversammlung mit anschließendem Clubabend im Gasthaus Rose in Seedorf statt. Beginn ist um 19:00 Uhr. \nAnträge bitte 14 Tage vorher beim Interims Vorsitzenden René Broghammer einreichen. Bitte den DCC-Ausweis mitbringen. \nTagesordnungspunkte: \n1. Begrüßung\, mit Totenehrung\n2. Feststellung der Anwesenheit und Stimmrechte\n3. Jahresbericht des Vorstandes\n4. Bericht der Kassenwartin\n5. Bericht der Kassenprüfer\n6. Entlastung des Vorstandes\n7. Bericht der Jugendreferentin\n8. Ehrungen\n9. Neuwahlen:\n1.Vorstand\n2.Vorstand\nKassenwart/in\nJugendreferent/in\nTouristik- und Filmreferent/in\nSportreferent/in\n1.Kassenprüfer/in\n2.Kassenprüfer/in\nErsatzkassenprüfer/in\n10.Verschiedenes\n \nWir bitten um rege Teilnahme und freuen uns Euch zu begrüßen. \nGäste sind uns immer herzlich willkommen!
URL:https://cc-rottweil-schramberg.de/event/jahreshauptversammlung-mit-anschliessendem-clubabend-ccrs/
LOCATION:Gasthof Rose Seedorf\, Freudenstädterstrasse 45\, Dunningen-Seedorf\, Baden-Württemberg\, 78655\, Deutschland
END:VEVENT
END:VCALENDAR